BEGIN:VCALENDAR
VERSION:2.0
PRODID:-//Bio-Terrassen-Weingut Karl Weber - ECPv6.15.20//NONSGML v1.0//EN
CALSCALE:GREGORIAN
METHOD:PUBLISH
X-WR-CALNAME:Bio-Terrassen-Weingut Karl Weber
X-ORIGINAL-URL:https://weber-lehmen.de
X-WR-CALDESC:Veranstaltungen für Bio-Terrassen-Weingut Karl Weber
REFRESH-INTERVAL;VALUE=DURATION:PT1H
X-Robots-Tag:noindex
X-PUBLISHED-TTL:PT1H
BEGIN:VTIMEZONE
TZID:Europe/Berlin
BEGIN:DAYLIGHT
TZOFFSETFROM:+0100
TZOFFSETTO:+0200
TZNAME:CEST
DTSTART:20220327T010000
END:DAYLIGHT
BEGIN:STANDARD
TZOFFSETFROM:+0200
TZOFFSETTO:+0100
TZNAME:CET
DTSTART:20221030T010000
END:STANDARD
BEGIN:DAYLIGHT
TZOFFSETFROM:+0100
TZOFFSETTO:+0200
TZNAME:CEST
DTSTART:20230326T010000
END:DAYLIGHT
BEGIN:STANDARD
TZOFFSETFROM:+0200
TZOFFSETTO:+0100
TZNAME:CET
DTSTART:20231029T010000
END:STANDARD
BEGIN:DAYLIGHT
TZOFFSETFROM:+0100
TZOFFSETTO:+0200
TZNAME:CEST
DTSTART:20240331T010000
END:DAYLIGHT
BEGIN:STANDARD
TZOFFSETFROM:+0200
TZOFFSETTO:+0100
TZNAME:CET
DTSTART:20241027T010000
END:STANDARD
END:VTIMEZONE
BEGIN:VEVENT
DTSTART;TZID=Europe/Berlin:20231227T160000
DTEND;TZID=Europe/Berlin:20231227T190000
DTSTAMP:20260421T175754
CREATED:20201123T091251Z
LAST-MODIFIED:20231027T133323Z
UID:1870-1703692800-1703703600@weber-lehmen.de
SUMMARY:Wochenmarkt Ehrenbreitstein 52. KW
DESCRIPTION:
URL:https://weber-lehmen.de/event/wochenmarkt-ehrenbreitstein-52kw/
LOCATION:Ehrenbreitstein\, Kapuzinerplatz\, Koblenz\, 56077
CATEGORIES:Wochenmarkt
END:VEVENT
BEGIN:VEVENT
DTSTART;TZID=Europe/Berlin:20231228T143000
DTEND;TZID=Europe/Berlin:20231228T180000
DTSTAMP:20260421T175754
CREATED:20211214T100113Z
LAST-MODIFIED:20231222T203815Z
UID:2218-1703773800-1703786400@weber-lehmen.de
SUMMARY:Wochenmarkt Selters 52. KW
DESCRIPTION:
URL:https://weber-lehmen.de/event/wochenmarkt-selters-52-kw-2/
LOCATION:Selters\, Rheinstr. 31\, Selters\, 56242\, Deutschland
CATEGORIES:Wochenmarkt
END:VEVENT
END:VCALENDAR