BEGIN:VCALENDAR
VERSION:2.0
PRODID:-//Bio-Terrassen-Weingut Karl Weber - ECPv6.15.20//NONSGML v1.0//EN
CALSCALE:GREGORIAN
METHOD:PUBLISH
X-WR-CALNAME:Bio-Terrassen-Weingut Karl Weber
X-ORIGINAL-URL:https://weber-lehmen.de
X-WR-CALDESC:Veranstaltungen für Bio-Terrassen-Weingut Karl Weber
REFRESH-INTERVAL;VALUE=DURATION:PT1H
X-Robots-Tag:noindex
X-PUBLISHED-TTL:PT1H
BEGIN:VTIMEZONE
TZID:Europe/Berlin
BEGIN:DAYLIGHT
TZOFFSETFROM:+0100
TZOFFSETTO:+0200
TZNAME:CEST
DTSTART:20230326T010000
END:DAYLIGHT
BEGIN:STANDARD
TZOFFSETFROM:+0200
TZOFFSETTO:+0100
TZNAME:CET
DTSTART:20231029T010000
END:STANDARD
BEGIN:DAYLIGHT
TZOFFSETFROM:+0100
TZOFFSETTO:+0200
TZNAME:CEST
DTSTART:20240331T010000
END:DAYLIGHT
BEGIN:STANDARD
TZOFFSETFROM:+0200
TZOFFSETTO:+0100
TZNAME:CET
DTSTART:20241027T010000
END:STANDARD
BEGIN:DAYLIGHT
TZOFFSETFROM:+0100
TZOFFSETTO:+0200
TZNAME:CEST
DTSTART:20250330T010000
END:DAYLIGHT
BEGIN:STANDARD
TZOFFSETFROM:+0200
TZOFFSETTO:+0100
TZNAME:CET
DTSTART:20251026T010000
END:STANDARD
END:VTIMEZONE
BEGIN:VEVENT
DTSTART;TZID=Europe/Berlin:20240513T173000
DTEND;TZID=Europe/Berlin:20240513T190000
DTSTAMP:20260421T105620
CREATED:20200424T083743Z
LAST-MODIFIED:20240308T085655Z
UID:1616-1715621400-1715626800@weber-lehmen.de
SUMMARY:Verteilung Marktschwärmerei Bonn - Kessenich 20. KW
DESCRIPTION:
URL:https://weber-lehmen.de/event/verteilung-marktschwaermerei-bonn-kessenich-20-kw/
LOCATION:Friedenskirche\, Franz Bücheler Str. 10\, Bonn\, 53129\, Deutschland
CATEGORIES:Marktschwärmerei Verteilung
END:VEVENT
BEGIN:VEVENT
DTSTART;TZID=Europe/Berlin:20240527T173000
DTEND;TZID=Europe/Berlin:20240527T190000
DTSTAMP:20260421T105620
CREATED:20210417T202824Z
LAST-MODIFIED:20240516T082902Z
UID:2063-1716831000-1716836400@weber-lehmen.de
SUMMARY:Verteilung Marktschwärmerei Bonn – Kessenich 22. KW
DESCRIPTION:
URL:https://weber-lehmen.de/event/verteilung-marktschwaermerei-bonn-kessenich-21-kw/
LOCATION:Friedenskirche\, Franz Bücheler Str. 10\, Bonn\, 53129\, Deutschland
CATEGORIES:Marktschwärmerei Verteilung
END:VEVENT
BEGIN:VEVENT
DTSTART;TZID=Europe/Berlin:20240528T093000
DTEND;TZID=Europe/Berlin:20240528T130000
DTSTAMP:20260421T105620
CREATED:20200424T072614Z
LAST-MODIFIED:20240516T082724Z
UID:1601-1716888600-1716901200@weber-lehmen.de
SUMMARY:Wochenmarkt Raubach 22. KW
DESCRIPTION:
URL:https://weber-lehmen.de/event/wochenmarkt-raubach-24-kw/
LOCATION:Raubach\, In der Au\, Raubach\, 56316\, Deutschland
CATEGORIES:Wochenmarkt
END:VEVENT
END:VCALENDAR