BEGIN:VCALENDAR
VERSION:2.0
PRODID:-//Bio-Terrassen-Weingut Karl Weber - ECPv6.15.20//NONSGML v1.0//EN
CALSCALE:GREGORIAN
METHOD:PUBLISH
X-ORIGINAL-URL:https://weber-lehmen.de
X-WR-CALDESC:Veranstaltungen für Bio-Terrassen-Weingut Karl Weber
REFRESH-INTERVAL;VALUE=DURATION:PT1H
X-Robots-Tag:noindex
X-PUBLISHED-TTL:PT1H
BEGIN:VTIMEZONE
TZID:Europe/Berlin
BEGIN:DAYLIGHT
TZOFFSETFROM:+0100
TZOFFSETTO:+0200
TZNAME:CEST
DTSTART:20230326T010000
END:DAYLIGHT
BEGIN:STANDARD
TZOFFSETFROM:+0200
TZOFFSETTO:+0100
TZNAME:CET
DTSTART:20231029T010000
END:STANDARD
BEGIN:DAYLIGHT
TZOFFSETFROM:+0100
TZOFFSETTO:+0200
TZNAME:CEST
DTSTART:20240331T010000
END:DAYLIGHT
BEGIN:STANDARD
TZOFFSETFROM:+0200
TZOFFSETTO:+0100
TZNAME:CET
DTSTART:20241027T010000
END:STANDARD
BEGIN:DAYLIGHT
TZOFFSETFROM:+0100
TZOFFSETTO:+0200
TZNAME:CEST
DTSTART:20250330T010000
END:DAYLIGHT
BEGIN:STANDARD
TZOFFSETFROM:+0200
TZOFFSETTO:+0100
TZNAME:CET
DTSTART:20251026T010000
END:STANDARD
END:VTIMEZONE
BEGIN:VEVENT
DTSTART;TZID=Europe/Berlin:20241104T173000
DTEND;TZID=Europe/Berlin:20241104T190000
DTSTAMP:20260425T125253
CREATED:20210814T114008Z
LAST-MODIFIED:20241006T205605Z
UID:2141-1730741400-1730746800@weber-lehmen.de
SUMMARY:Verteilung Marktschwärmerei Bonn -Kessenich 45. KW
DESCRIPTION:
URL:https://weber-lehmen.de/event/verteilung-marktschwaermerei-bonn-kessenich-45-kw-2/
LOCATION:Friedenskirche\, Franz Bücheler Str. 10\, Bonn\, 53129\, Deutschland
CATEGORIES:Marktschwärmerei Verteilung
END:VEVENT
BEGIN:VEVENT
DTSTART;TZID=Europe/Berlin:20241111T173000
DTEND;TZID=Europe/Berlin:20241111T190000
DTSTAMP:20260425T125253
CREATED:20201001T204304Z
LAST-MODIFIED:20241006T210246Z
UID:1808-1731346200-1731351600@weber-lehmen.de
SUMMARY:Verteilung Marktschwärmerei Bonn - Kessenich 46. KW
DESCRIPTION:
URL:https://weber-lehmen.de/event/verteilung-marktschwaermerei-bonn-kessenich-45-kw/
LOCATION:Friedenskirche\, Franz Bücheler Str. 10\, Bonn\, 53129\, Deutschland
CATEGORIES:Marktschwärmerei Verteilung
END:VEVENT
BEGIN:VEVENT
DTSTART;TZID=Europe/Berlin:20241116T093000
DTEND;TZID=Europe/Berlin:20241116T123000
DTSTAMP:20260425T125253
CREATED:20201031T190920Z
LAST-MODIFIED:20241103T104008Z
UID:1830-1731749400-1731760200@weber-lehmen.de
SUMMARY:Wochenmarkt Bad Ems 46. KW
DESCRIPTION:
URL:https://weber-lehmen.de/event/wochenmarkt-bad-ems-46-kw/
LOCATION:Wipsch\, Wipsch\, Bad Ems\, 56130\, Deutschland
CATEGORIES:Wochenmarkt
END:VEVENT
BEGIN:VEVENT
DTSTART;TZID=Europe/Berlin:20241118T173000
DTEND;TZID=Europe/Berlin:20241118T190000
DTSTAMP:20260425T125253
CREATED:20200731T092005Z
LAST-MODIFIED:20241006T210450Z
UID:1776-1731951000-1731956400@weber-lehmen.de
SUMMARY:Verteilung Marktschwärmerei Bonn - Kessenich 47. KW
DESCRIPTION:
URL:https://weber-lehmen.de/event/verteilung-marktschwaermerei-bonn-kessenich-47-kw/
LOCATION:Friedenskirche\, Franz Bücheler Str. 10\, Bonn\, 53129\, Deutschland
CATEGORIES:Marktschwärmerei Verteilung
END:VEVENT
BEGIN:VEVENT
DTSTART;TZID=Europe/Berlin:20241125T173000
DTEND;TZID=Europe/Berlin:20241125T190000
DTSTAMP:20260425T125253
CREATED:20201001T204450Z
LAST-MODIFIED:20241006T210947Z
UID:1812-1732555800-1732561200@weber-lehmen.de
SUMMARY:Verteilung Marktschwärmerei Bonn - Kessenich 48. KW
DESCRIPTION:
URL:https://weber-lehmen.de/event/verteilung-marktschwaermerei-bonn-kessenich-48-kw/
LOCATION:Friedenskirche\, Franz Bücheler Str. 10\, Bonn\, 53129\, Deutschland
CATEGORIES:Marktschwärmerei Verteilung
END:VEVENT
BEGIN:VEVENT
DTSTART;TZID=Europe/Berlin:20241130T093000
DTEND;TZID=Europe/Berlin:20241130T123000
DTSTAMP:20260425T125253
CREATED:20201102T111111Z
LAST-MODIFIED:20241006T211410Z
UID:1861-1732959000-1732969800@weber-lehmen.de
SUMMARY:Wochenmarkt Bad Ems 48. KW
DESCRIPTION:
URL:https://weber-lehmen.de/event/wochenmarkt-bad-ems-48-kw/
LOCATION:Wipsch\, Wipsch\, Bad Ems\, 56130\, Deutschland
CATEGORIES:Wochenmarkt
END:VEVENT
END:VCALENDAR